BEGIN:VCALENDAR
VERSION:2.0
CALSCALE:GREGORIAN
PRODID:-//MyApp//Calendar 1.0//EN
BEGIN:VEVENT
METHOD:PUBLISH
UID:50620@regionalniportaly.cz
DTSTAMP:20260420T181739Z
DTSTART;VALUE=DATE:20250301
DTEND;VALUE=DATE:20250302
SUMMARY:Retrovlakem do pivovaru Chodovar
DESCRIPTION:Zvláštní jízda výletního rychlíku z Prahy přes Beroun a Plzeň do pivovaru Chodovar. V pivovaru se koná pravá chodská zabíjačka před restaurací Stará Sladovna s bohatým doprovodným programem.\nRodinný pivovar s historickým areálem je vyhledávaným turistickým místem.\nJedná se o nejstarší pivovar západních Čech\, který dnes nabízí až sedm druhů tradičně spodně kvašených piv a výbornou minerální vodu značky Ilsano.\nSklepy ze 14. století vytesané v žulové skále slouží dodnes k vaření piva a v historických sklepích se nachází také originální restaurace Ve Skále.\nNávrh jízdního řádu:Praha hl. n. 8:00 – Praha-Smíchov 8:10 – Beroun 8:45 – Zdice 8:55 – Hořovice 9:05 – Plzeň hl. n. 9:35 – Chodová Planá 10:30\nChodová Planá 16:00 – Plzeň hl. n. 17:00 – Hořovice 17:40 – Zdice 17:50 – Beroun 18:00 – Praha-Smíchov 18:50 – Praha hl. n. 19:00
LOCATION:Beroun
END:VEVENT
END:VCALENDAR