BEGIN:VCALENDAR
VERSION:2.0
CALSCALE:GREGORIAN
PRODID:-//MyApp//Calendar 1.0//EN
BEGIN:VEVENT
METHOD:PUBLISH
UID:50674@regionalniportaly.cz
DTSTAMP:20260420T153725Z
DTSTART;VALUE=DATE:20251107
DTEND;VALUE=DATE:20251108
SUMMARY:Pocta Haně HEGEROVÉ na zámku Zbiroh
DESCRIPTION:Slavné písně&nbsp\;Hany Hegerové&nbsp\;v podání zpěvačky&nbsp\;Zuzany Němcové Šmejkalové&nbsp\;přinášejí jedinečný hudební zážitek. Hluboký\, temný hlas\, virtuózní klavírní doprovod&nbsp\;Doubravky Linhartové&nbsp\;a sofistikované bicí&nbsp\;Jakuba Němce&nbsp\;slibují nezapomenutelný večer\, který probudí i ty nejhlubší emoce.Přijďte zažít tento výjimečný koncert v Muchově sále zámku Zbiroh\, a nechat se unést odkazem královny&nbsp\;československého šansonu\,&nbsp\;
LOCATION:Zbiroh
END:VEVENT
END:VCALENDAR