BEGIN:VCALENDAR
VERSION:2.0
CALSCALE:GREGORIAN
PRODID:-//MyApp//Calendar 1.0//EN
BEGIN:VEVENT
METHOD:PUBLISH
UID:50779@regionalniportaly.cz
DTSTAMP:20260420T183523Z
DTSTART;VALUE=DATE:20250327
DTEND;VALUE=DATE:20250328
SUMMARY:BESEDA Martiny Kociánové a Jaromíra Hanzlíka
DESCRIPTION:Jedinečná příležitost se osobně setkat s legendárním hercem a připomenout si jeho padesátiletou cestu hereckým životem.Nenechte si ujít neopakovatelnou a velmi osobní atmosféru večera. Můžeme se těšit na historky z divadelního a filmového život\, vše v kompozici s moderátorkou rádia Universum Martinou Kociánovou.Jaromíra Hanzlíka jste mohli spatřit&nbsp\;např. ve filmech: Romance pro křídlovku\, Postřižiny\, Slasti otce vlasti\, Jak utopit doktora Mráčka\, Slavnosti sněženek\, Kočár do Vídně. V seriálech:&nbsp\;Nemocnice na kraji města\, Sanitka\, Cirkus Humberto\, Byl jednou jeden dům\,&nbsp\;Synové a dcery Jakuba skláře.Exceloval v divadelních rolích Hamlet\, Oidipus\, Cyrano z Bergeracu\, Loupežník\, Car Fjodor.
LOCATION:Lety
END:VEVENT
END:VCALENDAR