BEGIN:VCALENDAR
VERSION:2.0
CALSCALE:GREGORIAN
PRODID:-//MyApp//Calendar 1.0//EN
BEGIN:VEVENT
METHOD:PUBLISH
UID:50781@regionalniportaly.cz
DTSTAMP:20260420T110511Z
DTSTART;VALUE=DATE:20251119
DTEND;VALUE=DATE:20251120
SUMMARY:Muži jsou z Marsu\, ženy z Venuše v Berouně
DESCRIPTION:Kdysi za pradávných časů se Marťané a Venušanky setkali\, zamilovali se do sebe a navázali šťastné vztahy\, protože uznávali a respektovali vzájemné rozdíly. Potom však přišli na Zem a stihla je ztráta paměti: zapomněli\, že pocházejí z různých planet.Nyní Vám překládáme praktický návod\, jak zlepšit vzájemné porozumění a dosáhnout v partnerských vztazích toho\, co od nich očekáváme.To vše pod pečlivým dozorem Tomáše Mecháčka v jeho one máš show inspirované knižním best sellerem Muži jsou z Marsu\, zeny z Venuše.Hrají: Tomáš Měcháček
LOCATION:Beroun
END:VEVENT
END:VCALENDAR