BEGIN:VCALENDAR
VERSION:2.0
CALSCALE:GREGORIAN
PRODID:-//MyApp//Calendar 1.0//EN
BEGIN:VEVENT
METHOD:PUBLISH
UID:50839@regionalniportaly.cz
DTSTAMP:20260420T200239Z
DTSTART;VALUE=DATE:20250304
DTEND;VALUE=DATE:20250305
SUMMARY:Pavlíkov - Jedlíci na cestách - Japonsko
DESCRIPTION:Jedlíci na cestách v Pavlíkově.Jarda Bouzek a Tomáš Šapovalov nás v Pavlíkově provedou Japonskem a místní gastronomií.&nbsp\;Vstupné 130\,-Kč v předprodeji a 150\,-Kč na místě
LOCATION:Pavlíkov
END:VEVENT
END:VCALENDAR