BEGIN:VCALENDAR
VERSION:2.0
CALSCALE:GREGORIAN
PRODID:-//MyApp//Calendar 1.0//EN
BEGIN:VEVENT
METHOD:PUBLISH
UID:50841@regionalniportaly.cz
DTSTAMP:20260420T183329Z
DTSTART;VALUE=DATE:20250325
DTEND;VALUE=DATE:20250326
SUMMARY:Pavlíkov - Zanzibar a Seychely - Jarda Bouzek
DESCRIPTION:Zanzibar a Seychely v Pavlíkově v podání Jardy Bouzka.Zanzibar a Seychelské ostrovy – dvě perly Indického oceánu\, které si většina z nás představuje jako dokonalý ráj s bílými plážemi a tyrkysovým mořem. Ale co se skrývá za pohlednicovými scenériemi? Tato přednáška vás zavede nejen na nejkrásnější pláže světa\, ale také do rušných tržnic vonících po koření\, na plantáže vanilky a hřebíčku či mezi obří želvy a pod hladinu korálových útesů. Připravte se na dávku exotiky\, dobrodružství i nečekaných historek – a možná dostanete chuť sbalit kufry a vydat se na vlastní cestu!
LOCATION:Pavlíkov
END:VEVENT
END:VCALENDAR