BEGIN:VCALENDAR
VERSION:2.0
CALSCALE:GREGORIAN
PRODID:-//MyApp//Calendar 1.0//EN
BEGIN:VEVENT
METHOD:PUBLISH
UID:50843@regionalniportaly.cz
DTSTAMP:20260420T162253Z
DTSTART;VALUE=DATE:20250415
DTEND;VALUE=DATE:20250416
SUMMARY:Pavlíkov - Nový Zéland - Tomáš Šapovalov
DESCRIPTION:Nový Zéland v Pavlíkově v podání Tomáše Šapovalova.Plakát bude doladěn a vyměněn.
LOCATION:Pavlíkov
END:VEVENT
END:VCALENDAR