BEGIN:VCALENDAR
VERSION:2.0
CALSCALE:GREGORIAN
PRODID:-//MyApp//Calendar 1.0//EN
BEGIN:VEVENT
METHOD:PUBLISH
UID:50921@regionalniportaly.cz
DTSTAMP:20260420T180345Z
DTSTART;VALUE=DATE:20250530
DTEND;VALUE=DATE:20250531
SUMMARY:TOTÁLNÍ NASAZENÍ v Pavlíkově (Rakovník)
DESCRIPTION:Tradiční otevíračka letní open air sezóny s kapelou Totální nasazení a jejími&nbsp\;hosty.Těšit se můžete na kapely Nežfaleš\, Deratizéři a Dilemma in Cinema.
LOCATION:Pavlíkov
END:VEVENT
END:VCALENDAR