BEGIN:VCALENDAR
VERSION:2.0
CALSCALE:GREGORIAN
PRODID:-//MyApp//Calendar 1.0//EN
BEGIN:VEVENT
METHOD:PUBLISH
UID:51096@regionalniportaly.cz
DTSTAMP:20260420T180926Z
DTSTART;VALUE=DATE:20250322
DTEND;VALUE=DATE:20250323
SUMMARY:Pravá česká zabijačka
DESCRIPTION:&nbsp\;BISTRO OKOŘ VÁS ZVE:PŘIJĎTE ZAŽÍT PRAVOU ČESKOU ZABIJAČKU22.3.2025&nbsp\;od 10.00&nbsp\; do 18&nbsp\;hodinPravá česká zabijačka – Mistr řezník Pavel Helebrant se Zákolan + po celý den hraje DJVstupné 399\,-KčDěti do 12 let vstup ZDARMA- dětské hřištěV&nbsp\;ceně vstupného:Sladká snídaně - panáček slivovice - domácí koláče a štrúdl – po celý den zabijačkové dobroty – balíček dobrot na cestu&nbsp\;
LOCATION:Okoř
END:VEVENT
END:VCALENDAR