BEGIN:VCALENDAR
VERSION:2.0
CALSCALE:GREGORIAN
PRODID:-//MyApp//Calendar 1.0//EN
BEGIN:VEVENT
METHOD:PUBLISH
UID:51191@regionalniportaly.cz
DTSTAMP:20260420T180450Z
DTSTART;VALUE=DATE:20250416
DTEND;VALUE=DATE:20250417
SUMMARY:Koncert Robert Křesťan a Druhá tráva
DESCRIPTION:Koncert legendy folk\, country a bluegrassové scény zaměřený na průřez tvorby Roberta Křesťana z celé doby existence skupiny\, nyní s důrazem na skladby z&nbsp\;posledních studiových alb Díl první a Díl druhý.Za obě tato alba získala Druhá tráva Ceny Anděl v&nbsp\;kategorii folk\, Robert Křesťan byl navíc uveden do Síně slávy.Druhá tráva - přední česká kapela\, která se během let odchýlila od původního moderního bluegrassu k nadžánrovému výrazu a řadí se mezi špičku na české scéně.Skupina Druhá tráva hraje v současné době ve složení:Robert Křesťan - sólový zpěv\, mandolína\, kytaraLuboš Malina - banjo\, irské píšťaly\, tenor saxofon\, vokályLuboš Novotný - dobro\, lap steel\, vokályRadek Hlávka - kytara\, vokályTomáš Liška – kontrabas\, basová kytaraMartin Novák - bicí\, perkuse\, cajon
LOCATION:Stará Huť
END:VEVENT
END:VCALENDAR