BEGIN:VCALENDAR
VERSION:2.0
CALSCALE:GREGORIAN
PRODID:-//MyApp//Calendar 1.0//EN
BEGIN:VEVENT
METHOD:PUBLISH
UID:51531@regionalniportaly.cz
DTSTAMP:20260420T180500Z
DTSTART;VALUE=DATE:20250410
DTEND;VALUE=DATE:20250411
SUMMARY:Jiří Pavlica & Hradišťan
DESCRIPTION:Benefiční koncert Jiří Pavlica &amp\; Hradišťan.
LOCATION:Ořech
END:VEVENT
END:VCALENDAR