BEGIN:VCALENDAR
VERSION:2.0
CALSCALE:GREGORIAN
PRODID:-//MyApp//Calendar 1.0//EN
BEGIN:VEVENT
METHOD:PUBLISH
UID:51532@regionalniportaly.cz
DTSTAMP:20260420T141007Z
DTSTART;VALUE=DATE:20251122
DTEND;VALUE=DATE:20251123
SUMMARY:Maškarní bál skautské středisko Havran Klecany
DESCRIPTION:Vážení spoluobčané\, přátelé\, skautiZveme vás na Maškarní bál střediska Havran Klecany. Přijďte se pochlubit svou maskou na téma cirkus a prožít s námi večer plný zábavy. Můžete se těšit na živou hudbu\, tematické hry\, tombolu nebo soutěž o nejlepší masku.Těšíme se na vás v sobotu 22. listopadu&nbsp\;v KC Rychta Klecany.Skauti z Klecan
LOCATION:Klecany
END:VEVENT
END:VCALENDAR