BEGIN:VCALENDAR
VERSION:2.0
CALSCALE:GREGORIAN
PRODID:-//MyApp//Calendar 1.0//EN
BEGIN:VEVENT
METHOD:PUBLISH
UID:51606@regionalniportaly.cz
DTSTAMP:20260420T175412Z
DTSTART;VALUE=DATE:20250812
DTEND;VALUE=DATE:20250813
SUMMARY:Koncert filmové hudby pod širým nebem | Beroun
DESCRIPTION:Smyčce Pražského filmového orchestru&nbsp\;pod taktovkou dirigenta Jiřího Korynty&nbsp\;přináší velkolepý koncert\, který představí&nbsp\;pod širým nebem v Berouně!Diváci se mohou&nbsp\;těšit na&nbsp\;skladby z filmů&nbsp\;Star Wars\, Pán Prstenů\, Games of Thrones\, Harry Potter\, Piráti z&nbsp\;Karibiku&nbsp\;a další známé melodie stříbrného plátna.Koncert bude bohatý na fantastickou filmovou hudbu od světově známých hudebních skladatelů\, jakými jsou např.&nbsp\;John Williams\,&nbsp\;Hans Zimmer\,&nbsp\;Howard Shore&nbsp\;nebo&nbsp\;James Horner.&nbsp\;
LOCATION:Beroun
END:VEVENT
END:VCALENDAR