BEGIN:VCALENDAR
VERSION:2.0
CALSCALE:GREGORIAN
PRODID:-//MyApp//Calendar 1.0//EN
BEGIN:VEVENT
METHOD:PUBLISH
UID:51616@regionalniportaly.cz
DTSTAMP:20260420T182152Z
DTSTART;VALUE=DATE:20250501
DTEND;VALUE=DATE:20250502
SUMMARY:Dvořákův festival: Zahajovací koncert
DESCRIPTION:ZAHAJOVACÍ KONCERTPořadatel: Dvořákův festivalSpolupořadatel –&nbsp\;Správa Pražského hraduÚčinkující:&nbsp\;JIŘÍ HOUDEK&nbsp\;– trubka&nbsp\;ALEŠ BÁRTA&nbsp\;– varhany&nbsp\;Program:&nbsp\;&nbsp\;&nbsp\;
LOCATION:Lány
END:VEVENT
END:VCALENDAR