BEGIN:VCALENDAR
VERSION:2.0
CALSCALE:GREGORIAN
PRODID:-//MyApp//Calendar 1.0//EN
BEGIN:VEVENT
METHOD:PUBLISH
UID:51653@regionalniportaly.cz
DTSTAMP:20260420T181728Z
DTSTART;VALUE=DATE:20250405
DTEND;VALUE=DATE:20250406
SUMMARY:Retrovlakem do pivovaru Chyše
DESCRIPTION:Zveme Vás na výlet zvláštním vlakem z Prahy přes Beroun a Křivoklát do vesničky Chyše v Karlovarském kraji. Navštivte Panství Chyše zahrnující zámek\, pivovar a restauraci s rodinnou atmosférou starého sídla. Zámecký pivovar byl znovu otevřen v roce 2006\, kdy byla po 74 letech obnovena výroba kvalitního přírodního nepasterizovaného piva. Čeká Vás prohlídka pivovaru s výkladem a degustace piva přímo z ležáckých tanků. Navštívíme také místní restauraci s domácí kuchyní. Vydejte se retrovlakem do Chyše!\n \nNávrh jízdního řádu:Praha hl. n. 8:00 – Praha-Smíchov 8:10 – Beroun 8:50 – Chyše 10:40\nChyše 15:40 – Beroun 17:25 – Praha-Smíchov 18:10 – Praha hl. n. 18:20
LOCATION:Beroun
END:VEVENT
END:VCALENDAR