BEGIN:VCALENDAR
VERSION:2.0
CALSCALE:GREGORIAN
PRODID:-//MyApp//Calendar 1.0//EN
BEGIN:VEVENT
METHOD:PUBLISH
UID:51674@regionalniportaly.cz
DTSTAMP:20260420T183309Z
DTSTART;VALUE=DATE:20250312
DTEND;VALUE=DATE:20250313
SUMMARY:Škola prírodnej starostlivosti o pleť
DESCRIPTION:Škola prírodnej starostlivosti o pleť ponúka jedinečnú príležitosť pre všetkých\, ktorí túžia preniknúť do sveta prírodnej kozmetiky a vytvoriť si vlastné produkty. Či už ste nadšenec DIY\, podnikateľ s ambíciou založiť vlastnú značku\, alebo kozmetický profesionál\, ktorý chce rozšíriť svoje znalosti\, tieto kurzy sú pre vás ako stvorené.
LOCATION:Žilina
END:VEVENT
END:VCALENDAR