BEGIN:VCALENDAR
VERSION:2.0
CALSCALE:GREGORIAN
PRODID:-//MyApp//Calendar 1.0//EN
BEGIN:VEVENT
METHOD:PUBLISH
UID:51889@regionalniportaly.cz
DTSTAMP:20260420T180655Z
DTSTART;VALUE=DATE:20250410
DTEND;VALUE=DATE:20250411
SUMMARY:Dejvické divadlo: Racek | přímý přenos derniéry
DESCRIPTION:Dejvické divadlo ve spolupráci s Aerofilms uvede 10. dubna derniéru inscenace Racek v přímém přenosu do kin po celém Česku a Slovensku.Tato výjimečná inscenace\, která měla premiéru 21. března 2013\, po 12 let patřila k&nbsp\;nejnavštěvovanějším a nejúspěšnějším titulům na repertoáru dejvické scény a už v&nbsp\;průběhu uvádění se stala svým způsobem legendou. Předprodej vstupenek začíná 4. února od 10:00. Derniéra jedinečné komedie Antona Pavloviče Čechova se uskuteční 10. dubna 2025 od 19:00 hodin\, a to i pro diváky\, kteří se nedostanou přímo do divadelního sálu. V&nbsp\;přímém přenosu ji uvedou kina po celé České republice a na Slovensku.Inscenace v&nbsp\;režii Michala Vajdičky se dočkala bezmála 170 repríz\, viděli ji diváci po celé České republice i za jejími hranicemi. Racek měl být původně prvním dejvickým titulem režiséra Michala Vajdičky\, kterého k&nbsp\;hostování oslovil tehdejší umělecký šéf Miroslav Krobot. Shodou různých událostí byl titul o rok odložen a předběhl ho neméně legendární Ucpanej systém\, jehož derniéra před dvěma lety odstartovala nově vzniklou tradici přímých přenosů inscenací z&nbsp\;Dejvického divadla do kin.&nbsp\;V&nbsp\;průběhu let došlo i k&nbsp\;některým změnám v&nbsp\;obsazení. Například postavu doktora Dorna hrál v&nbsp\;počátečních letech David Novotný\, později roli převzal Hynek Čermák a loučit se s&nbsp\;ní bude Tomáš Jeřábek. A v&nbsp\;době mateřských povinností Zdeňky Žádníkové na určitý čas převzala její roli Pavlíny Simona Babčáková.Uvádění Racka v&nbsp\;repertoáru Dejvického divadla vrcholí v době\, kdy divadlo vstupuje do rekonstrukce. Po dobu této rekonstrukce bude Dejvické divadlo pokračovat v sezóně 2025-2026 v dočasném prostoru bývalého multiplexu Galaxie na Jižním Městě. Do svého domovského prostoru se vrátí v sezóně 2026-2027.&nbsp\;
LOCATION:Řevnice
END:VEVENT
END:VCALENDAR