BEGIN:VCALENDAR
VERSION:2.0
CALSCALE:GREGORIAN
PRODID:-//MyApp//Calendar 1.0//EN
BEGIN:VEVENT
METHOD:PUBLISH
UID:52015@regionalniportaly.cz
DTSTAMP:20260420T162151Z
DTSTART;VALUE=DATE:20250516
DTEND;VALUE=DATE:20250517
SUMMARY:Čechomor v Davli
DESCRIPTION:Česko-moravská hudební skupina\, která originálním způsobem zpracovává lidové písně. Na scéně působí již přes třicet let. Za tu dobu se Čechomor mnohokrát proměnil jak personálně\, tak stylem hudby. Jeho charakteristickým rysem ale vždy zůstala nápaditost aranžmá\, osobitá interpretace a&nbsp\;inspirace v&nbsp\;lidové písni.Skupina koncertovala úspěšně v&nbsp\;Evropě\, Severní Americe\, Rusku\, Číně\, Mongolsku a&nbsp\;Austrálii\, natočila přes dvacet alb pro přední česká i&nbsp\;světová vydavatelství a&nbsp\;spolupracovala s&nbsp\;řadou významných umělců – americkou písničkářkou Suzanne Vega\, irským zpěvákem Iarlem Ó’Lionáirdem\, japonským bubeníkem a&nbsp\;hráčem na šakuhači Joji Hirotou\, baskytaristou Tonym Levinem\, Jazem Colemanem\, Vladem Kumpanem\, Ivanem Táslerem\, zpěvačkami Lenkou Dusilovou\, Ewou Farnou a&nbsp\;řadou dalších.Tentokrát uvidíte komorní koncert skupiny Čechomor v&nbsp\;Davli\, na kterém vystoupí frontmani kapely František Černý (kytara a&nbsp\;zpěv)\, Karel Holas (housle a&nbsp\;zpěv) a&nbsp\;Matěj Lienert (bubny). Trio zahraje nejen oblíbené hity kapely\, ale i&nbsp\;nejčerstvější novinky.Můžete se těšit na výjimečný koncert plný čechomorské energie.
LOCATION:Davle
END:VEVENT
END:VCALENDAR