BEGIN:VCALENDAR
VERSION:2.0
CALSCALE:GREGORIAN
PRODID:-//MyApp//Calendar 1.0//EN
BEGIN:VEVENT
METHOD:PUBLISH
UID:52154@regionalniportaly.cz
DTSTAMP:20260420T180510Z
DTSTART;VALUE=DATE:20250424
DTEND;VALUE=DATE:20250425
SUMMARY:BESEDA Martina Kociánová a Václav Cílek
DESCRIPTION:Beseda Martiny Kociánové s&nbsp\;Václavem CílkemNa dubnové setkání v pivovaru MMX si moderátorka Rádia Universum Martina Kociánová pozvala českého vědce\, geologa\, spisovatele a popularizátora vědy Václava Cílka.&nbsp\;Václav má neuvěřitelný rozhled a schopnost věci propojovat. „Čeká nás bouřlivá doba\, ale zrodí se něco nového\,“ vyjadřuje ve svých knihách a na besedách dění i fakta s příměsí naděje a povzbuzení.&nbsp\;Nenechte si ujít jedinečnou příležitost nahlédnout do zákulisí vědy a celé řady neuvěřitelně zajímavých vědeckých témat. Martina Kociánová má jako vždy připravené zajímavé otázky a vy tak budete mít příležitost nejen porozumět různým dějům a procesům\, ale také být součástí ojedinělého zážitku.&nbsp\;
LOCATION:Lety
END:VEVENT
END:VCALENDAR