BEGIN:VCALENDAR
VERSION:2.0
CALSCALE:GREGORIAN
PRODID:-//MyApp//Calendar 1.0//EN
BEGIN:VEVENT
METHOD:PUBLISH
UID:52313@regionalniportaly.cz
DTSTAMP:20260420T162401Z
DTSTART;VALUE=DATE:20250413
DTEND;VALUE=DATE:20250414
SUMMARY:Pašijová hra aneb Jéžišku na křížku
DESCRIPTION:Hra plná symbolů\, náznaků\,přesahů s&nbsp\;jasným poselstvím\, které je pořád aktuální.Představení\, které organicky spojuje pašijový příběh umučení JežíšeKrista a&nbsp\;pohanské zvyky vynášení Morany s&nbsp\;mnohými říkadly avelikonočními koledami. Příběhy stojící na&nbsp\;opačných koncích kulturníchzvyklostí a&nbsp\;přeci říkající\, jinými prostředky\, to samé.Na&nbsp\;podiu se potkávají děti i&nbsp\;dospělí\, zpěváci\, hudebníci\, herci itanečníci\, profesionálové i&nbsp\;amatéři.Představení\, kterému sluší velké prostory i&nbsp\;plenér.Představení šité na&nbsp\;míru pro dětský sbor Rozrazil rezekvítek (Roztoč) \, kapelu Holinky\, nazkoušené sesmíšenými sbory La Folia (Tuchoměřice)\, Senza Nome (Libčice nad Vltavou)\, Local Vocal (Roztoky)Choreografie a&nbsp\;taneční provedení připravované s&nbsp\;dětmi ze ZUŠ Bílá a&nbsp\;s&nbsp\;dětmi z&nbsp\;tanečního studiaspolku Tušení v&nbsp\;průběhu celého roku na&nbsp\;tanečních lekcích pod vedením Veroniky Kacianové.Herecké akce zahrány dětmi z&nbsp\;dramatického kroužku spolku Roztoč – pod vedením Adama Krátkého.Scénář\, režie a&nbsp\;herecké akce: Andrea MarečkováChoreografie a&nbsp\;tanec: Veronika KacianováHudba: Jana VöröšováZpívá a&nbsp\;hraje: Smíšený sbor La Folia\, dětský sbor Rozrazil\, kapela HolinkyTančí: Natálie Vacková\, Ta.Banda\, Borci&nbsp\;13. dubna 2025&nbsp\;15:00\, Zámek RoztokyVstupné: do 15 let zdarma
LOCATION:Roztoky
END:VEVENT
END:VCALENDAR