BEGIN:VCALENDAR
VERSION:2.0
CALSCALE:GREGORIAN
PRODID:-//MyApp//Calendar 1.0//EN
BEGIN:VEVENT
METHOD:PUBLISH
UID:52413@regionalniportaly.cz
DTSTAMP:20260420T180356Z
DTSTART;VALUE=DATE:20250613
DTEND;VALUE=DATE:20250614
SUMMARY:Na hradě s P. Nárožným a O. Vetchým
DESCRIPTION:Dva charismatičtí herci\, dvě nezaměnitelné tváře českého filmu a divadla. Petr Nárožný\, mistr komediálního i vážného herectví\, a Ondřej Vetchý\, oblíbený pro svou přirozenost a autenticitu\, se sejdou na jednom pódiu. A to vskutku jedinečném prostředí – na historickém nádvoří hradu Křivoklát. Přijďte si poslechnout jejich historky ze zákulisí\, vzpomínky na nezapomenutelné role a neopakovatelnou souhru dvou výrazných osobností v atmosféře\, která má své vlastní kouzlo.
LOCATION:Křivoklát
END:VEVENT
END:VCALENDAR