BEGIN:VCALENDAR
VERSION:2.0
CALSCALE:GREGORIAN
PRODID:-//MyApp//Calendar 1.0//EN
BEGIN:VEVENT
METHOD:PUBLISH
UID:52660@regionalniportaly.cz
DTSTAMP:20260420T180433Z
DTSTART;VALUE=DATE:20250430
DTEND;VALUE=DATE:20250501
SUMMARY:RAEGO na Okoři
DESCRIPTION:Čáry Máry RAEGO !!!30.dubna 2025 od 20 hodin vyčarujeme pro Vás koncert RAEGAČeká Vás grilované sele a další dobroty z ohně))Vstup do areálu od 18 hodin.VIP vstupenky vstup do areálu v 17 hodin.
LOCATION:Okoř
END:VEVENT
END:VCALENDAR