BEGIN:VCALENDAR
VERSION:2.0
CALSCALE:GREGORIAN
PRODID:-//MyApp//Calendar 1.0//EN
BEGIN:VEVENT
METHOD:PUBLISH
UID:52664@regionalniportaly.cz
DTSTAMP:20260420T180423Z
DTSTART;VALUE=DATE:20250430
DTEND;VALUE=DATE:20250501
SUMMARY:RAEGO - Parkovací lístek
DESCRIPTION:PARKOVACÍ LÍSTEK 30.4.2025 OD 17.00 DO 24.00.
LOCATION:Okoř
END:VEVENT
END:VCALENDAR