BEGIN:VCALENDAR
VERSION:2.0
CALSCALE:GREGORIAN
PRODID:-//MyApp//Calendar 1.0//EN
BEGIN:VEVENT
METHOD:PUBLISH
UID:52767@regionalniportaly.cz
DTSTAMP:20260420T172531Z
DTSTART;VALUE=DATE:20250830
DTEND;VALUE=DATE:20250831
SUMMARY:Fest Slatina
DESCRIPTION:Sportovně hudební akce\nUtkání Sigi Teamu vs SK Slatina\nZa Sigi team hrávají Siegl\, Panenka\, Vízek\, Kuka\,  Šmicer\, Koller\, Řepka\, Tofi\, Hrdlička\,  Kvášovský\, Kohák\, Švancara a další \nPo utkání proběhne aukce/dražba nejen fotbalových předmětů a dresů pro neziskovou organizaci Klubíčko.\nOdpoledne a večer koncert tří kapel.\nPo celé odpoledne připraven i program pro děti
LOCATION:Slatina
END:VEVENT
END:VCALENDAR