BEGIN:VCALENDAR
VERSION:2.0
CALSCALE:GREGORIAN
PRODID:-//MyApp//Calendar 1.0//EN
BEGIN:VEVENT
METHOD:PUBLISH
UID:52816@regionalniportaly.cz
DTSTAMP:20260420T162323Z
DTSTART;VALUE=DATE:20250426
DTEND;VALUE=DATE:20250427
SUMMARY:Zvláštním vlakem do Temelína
DESCRIPTION:Zvláštní jízda výletního rychlíku z Prahy přes Beroun do Temelína a zpět.\nProhlídka informačního centra jaderné elektrárny Temelín s interaktivními exponáty. Zažijte ReakTour – virtuální tour až k reaktoru. Máte jedinečnou šanci prohlédnout si zblízka jaderný reaktor a zkusit si spustit regulační tyče až na jeho samé dno! Mlžná komora\,a dětský koutek. Pořízení selfie na památku z reaktorového sálu. Zábava pro celou rodinu.\n \nNávrh jízdního řádu:Praha hl. n. 8:00 – Beroun 8:45 – Temelín 11:00\nTemelín 14:30 – Beroun 17:15 – Praha hl. n. 18:00
LOCATION:Beroun
END:VEVENT
END:VCALENDAR