BEGIN:VCALENDAR
VERSION:2.0
CALSCALE:GREGORIAN
PRODID:-//MyApp//Calendar 1.0//EN
BEGIN:VEVENT
METHOD:PUBLISH
UID:52908@regionalniportaly.cz
DTSTAMP:20260420T162212Z
DTSTART;VALUE=DATE:20250524
DTEND;VALUE=DATE:20250525
SUMMARY:Strakaté bajky
DESCRIPTION:Pohádka o třech českých komediantech\, kteří procestovali celou Francii a teď přijeli k Vám se svým představením „Strakaté bajky.“ Kratičkými bajkami inspirovanými mistry Ezopem a Jeanem de la fontaine\, Vás nejen pobaví\, ale přinesou Vám i mravní ponaučení. Komedianti pohotově střídají role i kostýmy zvířátek\, na jejichž charakterech nastaví dětem zrcadlo lidských vlastností. Každá bajka končí ponaučením jasně pochopitelným pro dětského diváka.Uvidíte například typicky známou bajku „O lišce a sýru“\, ale i méně známé bajky\, např.: „O dvou kočičkách a netopýrovi“ a spoustu jiných. Pohádka rozvíjí dětskou fantazii i pomoci rytmických a snadno zapamatovatelných písniček. Děti se mohou těšit\, že se do představení aktivně zapojí a domů si tak odnesou nejen zážitek z pohádky\, nové písničky\, ale i hlubší pohled na svět.Pohádka je určená pro děti předškolního věku (od čtyř let) a děti základních škol (1.-4.tř.)
LOCATION:Hradištko
END:VEVENT
END:VCALENDAR