BEGIN:VCALENDAR
VERSION:2.0
CALSCALE:GREGORIAN
PRODID:-//MyApp//Calendar 1.0//EN
BEGIN:VEVENT
METHOD:PUBLISH
UID:53316@regionalniportaly.cz
DTSTAMP:20260420T144527Z
DTSTART;VALUE=DATE:20250711
DTEND;VALUE=DATE:20250712
SUMMARY:Dvořákův festival: Rusalka
DESCRIPTION:ANTONÍN DVOŘÁK - RUSALKASólisté Národního divadla v PrazeTEREZA MÁTLOVÁ – RusalkaLUCIE HILSCHEROVÁ – JežibabaMARTIN ŠREJMA – PrincJAROSLAV PATOČKA – VodníkZDENĚK KLAUDA – klavírní doprovodProgram:Předehra\, ŽínkyI pěkně vítám\, Uličnická havěť (Vodník\, Rusalka)Sem často přicházím\, Měsíčku na nebi hlubokém(Rusalka\, Vodník)Čury mury fuk (Ježibaba)Jel mladý lovec jel a jel (Lovec)Zde mihla se a zase zmizela\, Vidino divná přesladkáVím\, že jsi kouzlo\, které mine (Princ)II. jednáníJářku\, jářku (Kuchtík\, Hajný)Již týden dlíš mi po boku (Princ\, Cizí kněžna)Běda\, ubohá Rusalko bledá. Celý svět nedá ti nedá. (Vodník)Vám v očích divný žár se zračí (Cizí kněžna\, Princ)III. jednáníNecitelná vodní noci (Rusalka)Aj\, aj\, už jsi se navrátila? (Ježibaba)Bílá moje lani (Princ\, Rusalka\, Vodník)
LOCATION:Hradištko
END:VEVENT
END:VCALENDAR