BEGIN:VCALENDAR
VERSION:2.0
CALSCALE:GREGORIAN
PRODID:-//MyApp//Calendar 1.0//EN
BEGIN:VEVENT
METHOD:PUBLISH
UID:53318@regionalniportaly.cz
DTSTAMP:20260420T192656Z
DTSTART;VALUE=DATE:20250725
DTEND;VALUE=DATE:20250726
SUMMARY:Dvořákův festival: Česká RockHarmonie
DESCRIPTION:ČESKÁ ROCKHARMONIEkomorní soubor České filharmonieProgram:J. Lennon – A Hard Day‘s NightJ. S. Bach – Preludium in EL. van Beethoven – Rock over BeethovenA. Dvořák – Swing LargoB. Bernie / M. Pinkard – Sweet Georgia BrownQueen – Bohemian RhapsodyDeep Purple – Smoke on the WaterWhitesnake – Soldier of FortuneAC/DC – Back in BlackEurope – The Final CountdownP. McCartney – Eleanor RigbyJ. Schelinger – Holubí důmM. Kozánek – Travička jazzováIron Maiden – The TrooperMetallica – Master of PuppetsJudas Priest – Breaking the Law
LOCATION:Hradištko
END:VEVENT
END:VCALENDAR