BEGIN:VCALENDAR
VERSION:2.0
CALSCALE:GREGORIAN
PRODID:-//MyApp//Calendar 1.0//EN
BEGIN:VEVENT
METHOD:PUBLISH
UID:53336@regionalniportaly.cz
DTSTAMP:20260420T211428Z
DTSTART;VALUE=DATE:20251019
DTEND;VALUE=DATE:20251020
SUMMARY:Alenka v říši divů I Beroun
DESCRIPTION:✨Vezměte děti do světa\, kde realita ztrácí pevnou půdu pod nohama – do říše divů\, která ožije přímo před jejich očima!„Alenka v říši divů“ – interaktivní muzikál\, který přenese děti do světa fantazie\, kde se stěny hýbou\, stropy dýchají a housenky se plazí světelnými projekcemi po celém divadle.⏰Nečekejte obyčejné představení –&nbsp\;čeká vás vizuální velkolepost\,&nbsp\;která doslova vtáhne malé diváky přímo do příběhu! Kombinace&nbsp\;špičkové datové projekce\, interaktivních scén\, světelných efektů&nbsp\;a živé hudby promění divadlo v dechberoucí svět plný zázraků.🧒&nbsp\;Vaše děti nebudou jen sedět v hledišti – stanou se součástí děje:pomohou Alence řešit tajemné hádanky\,zazpívají s ní kouzelné písničky\,zapojí se do pátrání po neviditelném kocourovi\,a po představení se&nbsp\;vyfotí přímo na jevišti se všemi postavami z říše divů!&nbsp\;🎭Tohle je zážitek\, na který se nezapomíná – tohle je jejich první opravdové dobrodružství v divadle.Čeká vás říše\, kde se čaj pije o půlnoci\, králíci nosí hodinky\, kočky mluví a&nbsp\;všechno dává smysl dětské fantazii.&nbsp\;Příběh je hravě a srozumitelně upraven i pro nejmenší děti.&nbsp\;Muzikál od zkušených&nbsp\;tvůrců inscenací&nbsp\;Popelka a Vánoční loupež!
LOCATION:Beroun
END:VEVENT
END:VCALENDAR