BEGIN:VCALENDAR
VERSION:2.0
CALSCALE:GREGORIAN
PRODID:-//MyApp//Calendar 1.0//EN
BEGIN:VEVENT
METHOD:PUBLISH
UID:53343@regionalniportaly.cz
DTSTAMP:20260420T125004Z
DTSTART;VALUE=DATE:20251003
DTEND;VALUE=DATE:20251004
SUMMARY:Abraxas
DESCRIPTION:Koncert legendární rockové kapely.
LOCATION:Beroun
END:VEVENT
END:VCALENDAR