BEGIN:VCALENDAR
VERSION:2.0
CALSCALE:GREGORIAN
PRODID:-//MyApp//Calendar 1.0//EN
BEGIN:VEVENT
METHOD:PUBLISH
UID:53345@regionalniportaly.cz
DTSTAMP:20260420T123259Z
DTSTART;VALUE=DATE:20251118
DTEND;VALUE=DATE:20251119
SUMMARY:Robert Křesťan & Druhá Tráva
DESCRIPTION:Legenda folk\, country a bluegrassové scény - držitelé ceny Anděl v kategorii folk a countrySkupina Druhá tráva hraje v současné době ve složení:Robert Křesťan - sólový zpěv\, mandolína\, kytaraLuboš Malina - banjo\, irské píšťaly\, klarinet\, vokályLuboš Novotný - dobro\, lap steel\, vokályTomáš Liška - kontrabas\, basová kytaraRadek Hlávka - kytara\, vokályMartin Novák - bicí\, perkuse\, cajon
LOCATION:Beroun
END:VEVENT
END:VCALENDAR