BEGIN:VCALENDAR
VERSION:2.0
CALSCALE:GREGORIAN
PRODID:-//MyApp//Calendar 1.0//EN
BEGIN:VEVENT
METHOD:PUBLISH
UID:53367@regionalniportaly.cz
DTSTAMP:20260420T161947Z
DTSTART;VALUE=DATE:20250622
DTEND;VALUE=DATE:20250623
SUMMARY:PAGANINI koncert - kytara Pavel Steidl\, housle Jiří Vodička
DESCRIPTION:ZCELA MIMOŘÁDNÝ KONCERT\, KDE ÚČINKUJÍ EXCELENTNÍ KYTARISTA PAVEL STEIDL A HOUSLE PŘEDNESE JIŘÍ VODIČKA\, SÓLISTA ČESKÉ FILHARMONIE.Prostředí kostela sv. Bartoloměje\, původně gotickém&nbsp\;kostele\, který byl postaven ve 14. století. Jeho současná podoba vznikla při barokní přestavbě z počátku 18. století. Jeho věž byla přistavěna roku 1773. Neskutečně krásný zážitek.
LOCATION:Hostouň
END:VEVENT
END:VCALENDAR