BEGIN:VCALENDAR
VERSION:2.0
CALSCALE:GREGORIAN
PRODID:-//MyApp//Calendar 1.0//EN
BEGIN:VEVENT
METHOD:PUBLISH
UID:53369@regionalniportaly.cz
DTSTAMP:20260420T155652Z
DTSTART;VALUE=DATE:20250822
DTEND;VALUE=DATE:20250823
SUMMARY:Dvořákův festival: Muzikálový večer
DESCRIPTION:MUZIKÁLOVÝ VEČERMONIKA SOMMEROVÁ - zpěvRADIM SCHWAB - zpěvProgram:E. Morricone – Nella fantasiaDracula – Nespravedlivý BůhDracula – Vím\, že jsi se mnouK. Svoboda – Monte Christo: O Monte ChristoNoc na Karlštejně – Lásko má\, já stůňuK. Svoboda – Monte Christo: Doteky tvých řasG. Gershwin – Porgy a Bess: SummertimeG. Gershwin – Porgy a Bess: Bess\, You Is My Woman NowE. Morricone – Tenkrát na ZápaděA. L. Webber – Fantom opery: All I Ask of YouA. L. Webber – Fantom opery: VzpomínejA. L. Webber – Fantom opery: Hudba nociA. L. Webber – Fantom opery: Duet&nbsp\;Venkovní areál – Hotel Mandát Hradišťko\, Šlemínská 13
LOCATION:Hradištko
END:VEVENT
END:VCALENDAR