BEGIN:VCALENDAR
VERSION:2.0
CALSCALE:GREGORIAN
PRODID:-//MyApp//Calendar 1.0//EN
BEGIN:VEVENT
METHOD:PUBLISH
UID:53412@regionalniportaly.cz
DTSTAMP:20260420T162107Z
DTSTART;VALUE=DATE:20250622
DTEND;VALUE=DATE:20250623
SUMMARY:Muzikál Hmyz | Horoměřice
DESCRIPTION:Vrchlabské Divadlo Lipany / autor: Jiří Bareš / režie: Jiří Bareš a Jan ŠvimberskýOriginální muzikál autora muzikálových hitů 90 let jako Romeo a Julie\, Kvadratura kruhu\, 451° Fahrenheita a dalších.
LOCATION:Horoměřice
END:VEVENT
END:VCALENDAR