BEGIN:VCALENDAR
VERSION:2.0
CALSCALE:GREGORIAN
PRODID:-//MyApp//Calendar 1.0//EN
BEGIN:VEVENT
METHOD:PUBLISH
UID:53421@regionalniportaly.cz
DTSTAMP:20260420T180600Z
DTSTART;VALUE=DATE:20250604
DTEND;VALUE=DATE:20250605
SUMMARY:Člověk jako kvantový generátor
DESCRIPTION:KVANTOVÉ VĚDOMÍ: ČLOVĚK JAKO TVŮRCE REALITYPřednáška o tajemství vědomí po klinické smrti&nbsp\;Ponořte se do fascinujícího světa kvantového vědomí s naší přednáškou "Člověk jako kvantový generátor". Tento jedinečný zážitek vám nabídne možnost prozkoumat fenomenologický pohled na třicetiletý výzkum s lidmi\, kteří prodělali klinickou smrt.Tuto přednášku vede Dalibor Stach - uznávaný spisovatel a režisér\, který se proslavil svými dokumenty "Vše o životě po životě" a celovečerním debutem "Dimenze". Je také autorem dvanácti knih\, z nichž tři se staly bestsellery.Během této přednášky se dozvíte\, jak poznatky rozšířeného vědomí převést do běžného života. Tento pohled vám nabídne nový způsob\, jak se dívat na svět a své místo v něm.Přidejte se k nám a prozkoumejte nekonečné možnosti kvantového vědomí.
LOCATION:Beroun
END:VEVENT
END:VCALENDAR