BEGIN:VCALENDAR
VERSION:2.0
CALSCALE:GREGORIAN
PRODID:-//MyApp//Calendar 1.0//EN
BEGIN:VEVENT
METHOD:PUBLISH
UID:53628@regionalniportaly.cz
DTSTAMP:20260420T205720Z
DTSTART;VALUE=DATE:20250720
DTEND;VALUE=DATE:20250721
SUMMARY:Pohádková stezka /  BEROUN
DESCRIPTION:🌟 Nejoblíbenější Týnky pohádková stezka míří do Berouna! 🌟Potkejte své oblíbené pohádkové kamarády! 🎉Na trase Vás čekají zábavné úkoly pro děti\, ale také Vaši oblíbení pohádkoví kamarádi – třeba z Tlapkové patroly\, Ledového království\, Máši a medvěda\, králíčka Binga a mnoha dalších kamarádů\, které vaše děti zbožňují.Nenechte si ujít tento jedinečný pohádkový zážitek s Vašimi dětmi.👧 Vhodné pro děti ve věku 2–7 let📅 Datum: 20. 07. 2025⏰ Čas: Najdete na své zakoupené vstupence📍 Místo: Městská hora\, Beroun🚩 Start: https://maps.app.goo.gl/CjszhDpBzdQiyetT8Při příchodu se prosím zaregistrujte ve stánku. 🎪
LOCATION:Beroun
END:VEVENT
END:VCALENDAR