BEGIN:VCALENDAR
VERSION:2.0
CALSCALE:GREGORIAN
PRODID:-//MyApp//Calendar 1.0//EN
BEGIN:VEVENT
METHOD:PUBLISH
UID:53727@regionalniportaly.cz
DTSTAMP:20260420T180413Z
DTSTART;VALUE=DATE:20250529
DTEND;VALUE=DATE:20250530
SUMMARY:Beseda Martiny Kociánové a Štefana Margity
DESCRIPTION:Moderátorka Rádia Universum Martina Kociánová pozvala operního pěvce a tenoristu&nbsp\; Štefana Margitu na setkání v&nbsp\;Letech u Dobřichovic.&nbsp\;Buďte součástí ojedinělého zážitku a nahlédněte s námi do života úspěšného operního pěvce a tenoristy. Budeme hovořit nejen o jeho životě\, ale i o tom co dělá ve volném čase a o zkušenostech ze světových scén. Martina Kociánová má jako vždy připravené zajímavé otázky.
LOCATION:Lety
END:VEVENT
END:VCALENDAR