BEGIN:VCALENDAR
VERSION:2.0
CALSCALE:GREGORIAN
PRODID:-//MyApp//Calendar 1.0//EN
BEGIN:VEVENT
METHOD:PUBLISH
UID:53783@regionalniportaly.cz
DTSTAMP:20260420T192559Z
DTSTART;VALUE=DATE:20250802
DTEND;VALUE=DATE:20250803
SUMMARY:Fantom na hradě - Křivoklát
DESCRIPTION:Představitelé Fantoma opery zazpívají na hradě KřivoklátV sobotu 2.8.2025 zazní od 20:30 pod širým nebem na nádvoří hradu Křivoklát písně z českých a světových muzikálů v podání hlavních představitelů světoznámého muzikálu Fantom opery Radima Schwaba\, Tomáše Vaňka a&nbsp\;Moniky Sommerové.Těšit se můžete na The Music Of The Night\, jednu z ústředních písní muzikálu Fantom opery a hitů z muzikálů: DRACULA\, KYTICE\, SUNSET BOULEVARD\, HELLO DOLLY!\, OBRAZ DORIANA GRAYE\, EXCALIBUR\, WEST SIDE STORY nebo OSOBNÍ STRÁŽCE.&nbsp\;ÚčinkujíRadim SchwabMonika SommerováTomáš Vaněk&nbsp\;Časový harmonogram19:30&nbsp\;Otevření areálu pro diváky20:30 Zahájení koncertu&nbsp\;1.část21:15&nbsp\;Přestávka (15min)21:30&nbsp\;Zahájení koncertu 2.část22:15 Ukončení koncertu
LOCATION:Křivoklát
END:VEVENT
END:VCALENDAR