BEGIN:VCALENDAR
VERSION:2.0
CALSCALE:GREGORIAN
PRODID:-//MyApp//Calendar 1.0//EN
BEGIN:VEVENT
METHOD:PUBLISH
UID:53808@regionalniportaly.cz
DTSTAMP:20260420T144546Z
DTSTART;VALUE=DATE:20250705
DTEND;VALUE=DATE:20250706
SUMMARY:Třebsínské zvonění - Festival pro celou rodinu
DESCRIPTION:Třebsínské zvonění 2025 – Festival pro celou rodinu!Tradiční hudební festival pod širým nebem s country\, folkem\, trampskou muzikou a bluegrassem.Letošní ročník&nbsp\;bude věnován památce Jitky Vrbové – legendě české country a trampské hudby\, která byla po mnoho let stálicí našeho festivalu. Na její počest každá kapela zařadí do svého repertoáru jednu z jejích písní.Čekají vás špičkové kapely\, hudební školička pro děti\, tancování\, soutěže\, výtvarné dílničky\, pochod zdraví v Posázaví\, výstavy a spousta zábavy pro malé i velké.Přijeďte si užít pohodový letní den s hudbou\, dobrou náladou a bohatým programem pro celou rodinu.
LOCATION:Krňany
END:VEVENT
END:VCALENDAR