BEGIN:VCALENDAR
VERSION:2.0
CALSCALE:GREGORIAN
PRODID:-//MyApp//Calendar 1.0//EN
BEGIN:VEVENT
METHOD:PUBLISH
UID:53947@regionalniportaly.cz
DTSTAMP:20260420T191848Z
DTSTART;VALUE=DATE:20250809
DTEND;VALUE=DATE:20250810
SUMMARY:MAOK - Na Řevnice o úplněk více
DESCRIPTION:MAOK - Na Řevnice o úplněk víceLesní divadlo Řevnice&nbsp\;Stromy šumí nad hlavou\, země voní létem\, nad námi svítí úplněk ve Vodnáři...&nbsp\;a mezi tím vším zní&nbsp\;hudba\, která&nbsp\;nikam&nbsp\;nespěchá...Lesní divadlo Řevnice&nbsp\;je naprosto unikátní přírodní scéna\, amfiteátr nacházející se na úpatí Brd.&nbsp\;Místo střechy širé nebe\, neopakovatelná vůně letního lesa\, zpěv ptáků a čerstvý svěží vzduch. To je magická atmosféra Lesního divadla Řevnice...a k tomu všemu ještě Maokova vesmírná hudba!Předem objednáváme vlahý letní večer\, ale raději upozorňujeme\, že koncert se bude konat za každého počasí.Do Řevnic se můžete vydat na kole\, autem nebo vlakem. Po příjezdu na nádraží vás čeká příjemná\, přibližně sedmiminutová procházka lesem.&nbsp\;Podrobnější informace&nbsp\;najdete tu:&nbsp\;https://www.lesnislavnosti.cz/doprava/
LOCATION:Řevnice
END:VEVENT
END:VCALENDAR