BEGIN:VCALENDAR
VERSION:2.0
CALSCALE:GREGORIAN
PRODID:-//MyApp//Calendar 1.0//EN
BEGIN:VEVENT
METHOD:PUBLISH
UID:54254@regionalniportaly.cz
DTSTAMP:20260420T144307Z
DTSTART;VALUE=DATE:20250711
DTEND;VALUE=DATE:20250712
SUMMARY:Na stojáka live
DESCRIPTION:Máte rádi humor? Rádi se smějete?BISTRO OKOŘ si Vás dovoluje pozvat na unikátní večer nesoucí název NA STOJÁKA. Oblíbená stand-up comedy z televizních obrazovek naživo u nás v bistru s Ivou Pazderkovou\, Arnoštem Frauenbergem a Danielem Čechem. Přinášíme Vám nové vydání jedinečné a neotřelé zábavy v kombinaci s výbornými drinky a skvělým jídlem!
LOCATION:Okoř
END:VEVENT
END:VCALENDAR