BEGIN:VCALENDAR
VERSION:2.0
CALSCALE:GREGORIAN
PRODID:-//MyApp//Calendar 1.0//EN
BEGIN:VEVENT
METHOD:PUBLISH
UID:54271@regionalniportaly.cz
DTSTAMP:20260420T144504Z
DTSTART;VALUE=DATE:20250718
DTEND;VALUE=DATE:20250719
SUMMARY:Monkey Business - Když múzy mlčí tour 2025
DESCRIPTION:Motto:Když múzy mlčí\, to jest věru smutná chvíle\,leč ony pádný důvod mají:Ty dámy sličné neholdují krutosti a síle\,však duše křehké milují a objímají&nbsp\;V roce 2025 Monkey Business slaví 25 let dobrodružné plavby v rozbouřeném moři showbusinessu. Vyhnuvše se útesům podbízivých melodií\, zrádným mělčinám klišovitých textů a zdánlivě bezpečným zátokám pokleslých televizních pořadů\, kde obchází strašidlo playbacku\, pluje jejich fregata s větrem v zádech stále plnou parou vpřed. Připojte se k oslavám a navštivte koncert Monkey Business: &nbsp\;Když múzy mlčí tour 2025.&nbsp\;
LOCATION:Okoř
END:VEVENT
END:VCALENDAR