BEGIN:VCALENDAR
VERSION:2.0
CALSCALE:GREGORIAN
PRODID:-//MyApp//Calendar 1.0//EN
BEGIN:VEVENT
METHOD:PUBLISH
UID:54272@regionalniportaly.cz
DTSTAMP:20260420T183252Z
DTSTART;VALUE=DATE:20250607
DTEND;VALUE=DATE:20250608
SUMMARY:Luciáni - Cover band skupiny Lucie a Davida Kollera
DESCRIPTION:LUCIÁNI&nbsp\;jsou nejuznávanější revival show kapely Lucie a Davida Kollera\, která hraje všechny jejich hity v originálních aranžmá. Nejde jen o interpretaci hudby\, ale o zachování ducha\, energie a emocí\, které Lucie představuje. Tato kapela je mostem mezi vaší minulostí a přítomností\, mezi vaším smutkem a radostí\, mezi tím\, co bylo a co může být znovu. Nabízíme vám příležitost vrátit se do dřívějších časů a znovu prožít vzrušení\, které přináší koncerty skupiny Lucie. Naše interpretace všech písní je tak dokonalá\, že se budete cítit\, jako byste byli na skutečném koncertě skupiny Lucie. S námi se můžete vrátit do světa plného hudby\, radosti a emocí.
LOCATION:Okoř
END:VEVENT
END:VCALENDAR