BEGIN:VCALENDAR
VERSION:2.0
CALSCALE:GREGORIAN
PRODID:-//MyApp//Calendar 1.0//EN
BEGIN:VEVENT
METHOD:PUBLISH
UID:54306@regionalniportaly.cz
DTSTAMP:20260420T162006Z
DTSTART;VALUE=DATE:20250627
DTEND;VALUE=DATE:20250628
SUMMARY:Petra Hapková recitál
DESCRIPTION:RecitálRecitál "Já ráda vzpomínám" je složen převážně z písní\, které Petr Hapka napsal na geniální texty Michala Horáčka. Celým večerem\, který je pouze s klavírním doprovodem\, mluveným slovem velmi civilně provází sama Petra. Své fanoušky si tento projekt získává napříč generacemi po celé republice.O Petře&nbsp\;Petra Hapková se narodila 13. 9. 1982 v Římě. Je dcerou herečky Zory Ully Keslerové (Fešák Hubert\, Vítr v kapse\, Řetěz\, Líbáš jako ďábel\, aj.) a hudebního skladatele Petra Hapky.Až do roku 2010 žila\, pracovala a studovala v Římě a Viterbu\, kde své univerzitní studium úspěšně zakončila magisterským diplomem z jazyků a literatury. Součástí její magisterské práce byla obsáhlá studie českého protektorátního filmu. Od svého dětství se věnovala divadlu - hrála v nespočtech divadelních představeních\, jak alternativních\, tak klasických (Sen noci svatojánské\, Řeči\, řeči\, aj.) a hudběOd svých čtrnácti let se intenzivně věnuje zpěvu.&nbsp\;Zprvu působila v punkových a rockových formacích\, poté ji ovšem učarovalo blues. Její repertoár byl založen na klasických bluesových základech (Tracy Chapman\, Peggy Lee\,...). V roce 2003 obhájila první místo na pěvecké soutěži v Římě. Vystupovala zejména v malých formacích po barech a klubech\, kde sklízela velké úspěchy.Na sklonku roku 2010 se natrvalo přestěhovala do Prahy\, kde své znalosti italského a anglického jazyka zúročuje jako překladatelka\, věnuje se i jeho výuce. Na prvním místě je však její láska - zpěv. Vystupuje v několika hudebních formacích - od komorních souborů až po pódiové aranžmá s kapelou. V jejím repertoáru jsou šansony z pera dua H&amp\;H\, bluesové skladby\, ale i skladby moderních autorů. Je vdaná\, má dceru Leu Francescu.
LOCATION:Okoř
END:VEVENT
END:VCALENDAR