BEGIN:VCALENDAR
VERSION:2.0
CALSCALE:GREGORIAN
PRODID:-//MyApp//Calendar 1.0//EN
BEGIN:VEVENT
METHOD:PUBLISH
UID:54403@regionalniportaly.cz
DTSTAMP:20260420T162232Z
DTSTART;VALUE=DATE:20250612
DTEND;VALUE=DATE:20250613
SUMMARY:Hudební vystoupení Bety\, Nina a Batik Boys
DESCRIPTION:Ponořte se do kouzla keltských melodií a českých lidových písní na jedinečném večeru plném hudby a umění!Hudební uskupení Bety\, Nina a Batik Boys vás okouzlí zvuky keltské harfy\, heligonky\, kytary a nezaměnitelným hlasem australské zpěvačky Beth Cooper spolu s charismatickým Miroslavem Knězem.Beth Cooper\, harfa\, zpěv\,&nbsp\;Nina Klestilová\, kytara\, zpěv\,&nbsp\;Míra Kněz\, heligonka\, kytara\, zpěv\,&nbsp\;Jíra Poláček\, basová kytara\,&nbsp\;Vláďa Bradáč\, bicí.V rámci koncertu bude k vidění vernisáž uměleckého fotografa Vratislava Nohy&nbsp\;a výtvarníků skupiny Frekvence Múzy.&nbsp\;Petra Verziche\,&nbsp\;Milana Kopuletého\, Marie Bradové a dalších.
LOCATION:Lety
END:VEVENT
END:VCALENDAR