BEGIN:VCALENDAR
VERSION:2.0
CALSCALE:GREGORIAN
PRODID:-//MyApp//Calendar 1.0//EN
BEGIN:VEVENT
METHOD:PUBLISH
UID:54409@regionalniportaly.cz
DTSTAMP:20260420T155629Z
DTSTART;VALUE=DATE:20250817
DTEND;VALUE=DATE:20250818
SUMMARY:Mamma Mia - hudební show
DESCRIPTION:Přijďte si užít jedinečný příjemný hudební večer pod širým nebem.Čeká na vás 90 minutový program\, kde uslyšíte všechny písně z filmu Mamma Mia v podání skvělých zpěváků a zpěvaček z české divadelní scény. A aby to nebylo jen o zpívání\, většina písní bude doprovázena tanečníky a jejich choreografiemi.Těšit se můžete i na propracované kostýmy\, vlastně vyrobené kulisy a skvělé osvětlení. Během celého vystoupení bude k dispozici stánek s merchem a občerstvením. Nebude chybět ani fotostěna\, u které si můžete udělat fotografii na památku.Písničky budou zpívané v originále\, tedy v angličtině.&nbsp\;
LOCATION:Nový Knín
END:VEVENT
END:VCALENDAR