BEGIN:VCALENDAR
VERSION:2.0
CALSCALE:GREGORIAN
PRODID:-//MyApp//Calendar 1.0//EN
BEGIN:VEVENT
METHOD:PUBLISH
UID:54500@regionalniportaly.cz
DTSTAMP:20260420T180335Z
DTSTART;VALUE=DATE:20250531
DTEND;VALUE=DATE:20250601
SUMMARY:TYP - párty na Okoři
DESCRIPTION:ROCK PÁTRY NA OKOŘI 31.5.2025&nbsp\;od 17&nbsp\;hodin skupiny TYP.GRIL PÁRTY - ROCK PÁRTY - SPRÁVNÝ ČESKÝ BIGBÍT!!!!!!!Vstupenky zakoupené na 14.9.2024 jsou platné!!!!!!!&nbsp\;TYP opět zahraje na otevření&nbsp\;&nbsp\;letní sezóny na parkovišti u Bistra Okoř od 17ti do 22ti hod.
LOCATION:Okoř
END:VEVENT
END:VCALENDAR