BEGIN:VCALENDAR
VERSION:2.0
CALSCALE:GREGORIAN
PRODID:-//MyApp//Calendar 1.0//EN
BEGIN:VEVENT
METHOD:PUBLISH
UID:54774@regionalniportaly.cz
DTSTAMP:20260420T192016Z
DTSTART;VALUE=DATE:20250719
DTEND;VALUE=DATE:20250720
SUMMARY:Zážitkovým motoráčkem do Koněpruských jeskyní
DESCRIPTION:Vydejte se na výlet motoráčkem z Prahy do Koněpruských jeskyní. Čeká Vás cesta plná zábavy a netradičních zážitků. Cestou se zastavíme na prohlídku muzea filmu Ostře sledované vlaky v Loděnici a projedeme si také neveřejnou trať do vápenky z Berouna do Tmaně\, tzv. vlečku Čertovy schody. Vrcholem výletu bude návštěva nejdelšího jeskynního systému v Čechách – Koněpruských jeskyní. Zažijte netradiční výlet vlakem za poznáním.
LOCATION:Beroun
END:VEVENT
END:VCALENDAR