BEGIN:VCALENDAR
VERSION:2.0
CALSCALE:GREGORIAN
PRODID:-//MyApp//Calendar 1.0//EN
BEGIN:VEVENT
METHOD:PUBLISH
UID:54776@regionalniportaly.cz
DTSTAMP:20260420T144514Z
DTSTART;VALUE=DATE:20250705
DTEND;VALUE=DATE:20250706
SUMMARY:Výletní rychlík na Boubín i do Hoštic
DESCRIPTION:Zveme Vás na mimořádnou jízdu výletního rychlíku z Prahy přes Beroun\, Příbram\, Strakonice a Vimperk na Kubovu Huť. Vlak bude veden legendární lokomotivou Bardotka\, která poveze rychlíkové vozy. Chybět nebude ani oblíbený výčep a malé občerstvení.\nPřijďte si užít jízdu do nejvýše položené železniční stanice v ČR spojenou s výšlapem na Boubín. Vystoupit můžete také v Hošticích a navštívit zábavný areál s tématikou filmů Slunce\, seno a jahody / a pár facek / erotika.\n \nPředběžný jízdní řád:Praha hl. n. 7:30 – Beroun 08:00 – Příbram 08:40 – Strakonice 10:00 – Hoštice 10:30 – Kubova Huť 11:00\nKubova Huť 16:30 – Hoštice 17:00 – Strakonice 17:30 – Příbram 18:50 – Beroun 19:30 – Praha hl. n. 20:00
LOCATION:Beroun
END:VEVENT
END:VCALENDAR