BEGIN:VCALENDAR
VERSION:2.0
CALSCALE:GREGORIAN
PRODID:-//MyApp//Calendar 1.0//EN
BEGIN:VEVENT
METHOD:PUBLISH
UID:55348@regionalniportaly.cz
DTSTAMP:20260420T195122Z
DTSTART;VALUE=DATE:20250815
DTEND;VALUE=DATE:20250816
SUMMARY:Festival Vodácké Léto
DESCRIPTION:Festival Vodácké Léto 2025\, je dvoudenní festival rockové a country hudby.
LOCATION:Zbečno
END:VEVENT
END:VCALENDAR